1.0000000000
0.0000000000
0.0000000000
-1.0000000000
660158.5000000000
4652019.5000000000
