1.0000000000
0.0000000000
0.0000000000
-1.0000000000
587862.5000000000
4636817.5000000000
