1.0000000000
0.0000000000
0.0000000000
-1.0000000000
582675.5000000000
4636751.5000000000
