1.0000000000
0.0000000000
0.0000000000
-1.0000000000
582756.5000000000
4629812.5000000000
