1.0000000000
0.0000000000
0.0000000000
-1.0000000000
593048.5000000000
4636887.5000000000
