1.0000000000
0.0000000000
0.0000000000
-1.0000000000
598330.5000000000
4630021.5000000000
