1.0000000000
0.0000000000
0.0000000000
-1.0000000000
593139.5000000000
4629948.5000000000
