1.0000000000
0.0000000000
0.0000000000
-1.0000000000
603421.5000000000
4637038.5000000000
