1.0000000000
0.0000000000
0.0000000000
-1.0000000000
618980.5000000000
4637293.5000000000
