1.0000000000
0.0000000000
0.0000000000
-1.0000000000
619096.5000000000
4630354.5000000000
