1.0000000000
0.0000000000
0.0000000000
-1.0000000000
613905.5000000000
4630265.5000000000
