1.0000000000
0.0000000000
0.0000000000
-1.0000000000
629353.5000000000
4637482.5000000000
