1.0000000000
0.0000000000
0.0000000000
-1.0000000000
624166.5000000000
4637386.5000000000
