1.0000000000
0.0000000000
0.0000000000
-1.0000000000
629479.5000000000
4630543.5000000000
