1.0000000000
0.0000000000
0.0000000000
-1.0000000000
634539.5000000000
4637582.5000000000
