1.0000000000
0.0000000000
0.0000000000
-1.0000000000
639862.5000000000
4630747.5000000000
