1.0000000000
0.0000000000
0.0000000000
-1.0000000000
650099.5000000000
4637905.5000000000
