1.0000000000
0.0000000000
0.0000000000
-1.0000000000
645054.5000000000
4630854.5000000000
