1.0000000000
0.0000000000
0.0000000000
-1.0000000000
655285.5000000000
4638021.5000000000
