1.0000000000
0.0000000000
0.0000000000
-1.0000000000
655437.5000000000
4631081.5000000000
