1.0000000000
0.0000000000
0.0000000000
-1.0000000000
588033.5000000000
4622938.5000000000
