1.0000000000
0.0000000000
0.0000000000
-1.0000000000
582837.5000000000
4622872.5000000000
