1.0000000000
0.0000000000
0.0000000000
-1.0000000000
588119.5000000000
4615999.5000000000
