1.0000000000
0.0000000000
0.0000000000
-1.0000000000
582918.5000000000
4615933.5000000000
