1.0000000000
0.0000000000
0.0000000000
-1.0000000000
598426.5000000000
4623082.5000000000
