1.0000000000
0.0000000000
0.0000000000
-1.0000000000
593230.5000000000
4623008.5000000000
