1.0000000000
0.0000000000
0.0000000000
-1.0000000000
593320.5000000000
4616069.5000000000
