1.0000000000
0.0000000000
0.0000000000
-1.0000000000
608925.5000000000
4616301.5000000000
