1.0000000000
0.0000000000
0.0000000000
-1.0000000000
619212.5000000000
4623414.5000000000
