1.0000000000
0.0000000000
0.0000000000
-1.0000000000
614126.5000000000
4616386.5000000000
