1.0000000000
0.0000000000
0.0000000000
-1.0000000000
629605.5000000000
4623603.5000000000
