1.0000000000
0.0000000000
0.0000000000
-1.0000000000
624409.5000000000
4623507.5000000000
