1.0000000000
0.0000000000
0.0000000000
-1.0000000000
629731.5000000000
4616664.5000000000
