1.0000000000
0.0000000000
0.0000000000
-1.0000000000
624530.5000000000
4616567.5000000000
