1.0000000000
0.0000000000
0.0000000000
-1.0000000000
639998.5000000000
4623807.5000000000
