1.0000000000
0.0000000000
0.0000000000
-1.0000000000
634802.5000000000
4623703.5000000000
