1.0000000000
0.0000000000
0.0000000000
-1.0000000000
650538.5000000000
4617087.5000000000
