1.0000000000
0.0000000000
0.0000000000
-1.0000000000
645336.5000000000
4616975.5000000000
