1.0000000000
0.0000000000
0.0000000000
-1.0000000000
655588.5000000000
4624141.5000000000
