1.0000000000
0.0000000000
0.0000000000
-1.0000000000
588205.5000000000
4609060.5000000000
