1.0000000000
0.0000000000
0.0000000000
-1.0000000000
582998.5000000000
4608994.5000000000
