1.0000000000
0.0000000000
0.0000000000
-1.0000000000
588290.5000000000
4602121.5000000000
