1.0000000000
0.0000000000
0.0000000000
-1.0000000000
577337.5000000000
4650568.5000000000
