1.0000000000
0.0000000000
0.0000000000
-1.0000000000
577413.5000000000
4643628.5000000000
