1.0000000000
0.0000000000
0.0000000000
-1.0000000000
577489.5000000000
4636689.5000000000
