1.0000000000
0.0000000000
0.0000000000
-1.0000000000
577565.5000000000
4629749.5000000000
