1.0000000000
0.0000000000
0.0000000000
-1.0000000000
577641.5000000000
4622810.5000000000
