1.0000000000
0.0000000000
0.0000000000
-1.0000000000
577716.5000000000
4615871.5000000000
