1.0000000000
0.0000000000
0.0000000000
-1.0000000000
577942.5000000000
4595053.5000000000
