1.0000000000
0.0000000000
0.0000000000
-1.0000000000
578017.5000000000
4588115.5000000000
